BEGIN:VCALENDAR
VERSION:2.0
PRODID:-//Tetbury Dolphins LTC - ECPv6.15.12.2//NONSGML v1.0//EN
CALSCALE:GREGORIAN
METHOD:PUBLISH
X-WR-CALNAME:Tetbury Dolphins LTC
X-ORIGINAL-URL:https://www.tetburydolphinsltc.co.uk
X-WR-CALDESC:Events for Tetbury Dolphins LTC
REFRESH-INTERVAL;VALUE=DURATION:PT1H
X-Robots-Tag:noindex
X-PUBLISHED-TTL:PT1H
BEGIN:VTIMEZONE
TZID:Europe/London
BEGIN:DAYLIGHT
TZOFFSETFROM:+0000
TZOFFSETTO:+0100
TZNAME:BST
DTSTART:20140330T010000
END:DAYLIGHT
BEGIN:STANDARD
TZOFFSETFROM:+0100
TZOFFSETTO:+0000
TZNAME:GMT
DTSTART:20141026T010000
END:STANDARD
BEGIN:DAYLIGHT
TZOFFSETFROM:+0000
TZOFFSETTO:+0100
TZNAME:BST
DTSTART:20150329T010000
END:DAYLIGHT
BEGIN:STANDARD
TZOFFSETFROM:+0100
TZOFFSETTO:+0000
TZNAME:GMT
DTSTART:20151025T010000
END:STANDARD
BEGIN:DAYLIGHT
TZOFFSETFROM:+0000
TZOFFSETTO:+0100
TZNAME:BST
DTSTART:20160327T010000
END:DAYLIGHT
BEGIN:STANDARD
TZOFFSETFROM:+0100
TZOFFSETTO:+0000
TZNAME:GMT
DTSTART:20161030T010000
END:STANDARD
END:VTIMEZONE
BEGIN:VEVENT
DTSTART;TZID=Europe/London:20150604T170000
DTEND;TZID=Europe/London:20150604T174500
DTSTAMP:20260424T195331
CREATED:20150511T093644Z
LAST-MODIFIED:20150511T093644Z
UID:832-1433437200-1433439900@www.tetburydolphinsltc.co.uk
SUMMARY:Mini Reds (5-7 yrs)
DESCRIPTION:
URL:https://www.tetburydolphinsltc.co.uk/event/mini-reds-5-7-yrs-11/
LOCATION:Tetbury\, Sir William Romney's School\, Lowfield Rd\, Tetbury\, GL8 8AE\, United Kingdom
CATEGORIES:Coaching,Mini Reds
END:VEVENT
BEGIN:VEVENT
DTSTART;TZID=Europe/London:20150528T183000
DTEND;TZID=Europe/London:20150528T193000
DTSTAMP:20260424T195331
CREATED:20150511T093646Z
LAST-MODIFIED:20150511T093646Z
UID:845-1432837800-1432841400@www.tetburydolphinsltc.co.uk
SUMMARY:Juniors (11+)
DESCRIPTION:
URL:https://www.tetburydolphinsltc.co.uk/event/juniors-11-10/
LOCATION:Tetbury\, Sir William Romney's School\, Lowfield Rd\, Tetbury\, GL8 8AE\, United Kingdom
CATEGORIES:Coaching,Juniors
END:VEVENT
BEGIN:VEVENT
DTSTART;TZID=Europe/London:20150528T174500
DTEND;TZID=Europe/London:20150528T183000
DTSTAMP:20260424T195331
CREATED:20150511T093645Z
LAST-MODIFIED:20150511T093645Z
UID:838-1432835100-1432837800@www.tetburydolphinsltc.co.uk
SUMMARY:Mini Oranges/Greens (8-10 yrs)
DESCRIPTION:
URL:https://www.tetburydolphinsltc.co.uk/event/mini-orangesgreens-8-10-yrs-10/
LOCATION:Tetbury\, Sir William Romney's School\, Lowfield Rd\, Tetbury\, GL8 8AE\, United Kingdom
CATEGORIES:Coaching,Mini Oranges / Greens
END:VEVENT
BEGIN:VEVENT
DTSTART;TZID=Europe/London:20150528T170000
DTEND;TZID=Europe/London:20150528T174500
DTSTAMP:20260424T195331
CREATED:20150511T093644Z
LAST-MODIFIED:20150511T093644Z
UID:831-1432832400-1432835100@www.tetburydolphinsltc.co.uk
SUMMARY:Mini Reds (5-7 yrs)
DESCRIPTION:
URL:https://www.tetburydolphinsltc.co.uk/event/mini-reds-5-7-yrs-10/
LOCATION:Tetbury\, Sir William Romney's School\, Lowfield Rd\, Tetbury\, GL8 8AE\, United Kingdom
CATEGORIES:Coaching,Mini Reds
END:VEVENT
BEGIN:VEVENT
DTSTART;TZID=Europe/London:20150521T183000
DTEND;TZID=Europe/London:20150521T193000
DTSTAMP:20260424T195331
CREATED:20150511T093646Z
LAST-MODIFIED:20150511T093646Z
UID:844-1432233000-1432236600@www.tetburydolphinsltc.co.uk
SUMMARY:Juniors (11+)
DESCRIPTION:
URL:https://www.tetburydolphinsltc.co.uk/event/juniors-11-9/
LOCATION:Tetbury\, Sir William Romney's School\, Lowfield Rd\, Tetbury\, GL8 8AE\, United Kingdom
CATEGORIES:Coaching,Juniors
END:VEVENT
BEGIN:VEVENT
DTSTART;TZID=Europe/London:20150521T174500
DTEND;TZID=Europe/London:20150521T183000
DTSTAMP:20260424T195331
CREATED:20150511T093645Z
LAST-MODIFIED:20150511T093645Z
UID:837-1432230300-1432233000@www.tetburydolphinsltc.co.uk
SUMMARY:Mini Oranges/Greens (8-10 yrs)
DESCRIPTION:
URL:https://www.tetburydolphinsltc.co.uk/event/mini-orangesgreens-8-10-yrs-9/
LOCATION:Tetbury\, Sir William Romney's School\, Lowfield Rd\, Tetbury\, GL8 8AE\, United Kingdom
CATEGORIES:Coaching,Mini Oranges / Greens
END:VEVENT
BEGIN:VEVENT
DTSTART;TZID=Europe/London:20150521T170000
DTEND;TZID=Europe/London:20150521T174500
DTSTAMP:20260424T195331
CREATED:20150511T093644Z
LAST-MODIFIED:20150511T093644Z
UID:830-1432227600-1432230300@www.tetburydolphinsltc.co.uk
SUMMARY:Mini Reds (5-7 yrs)
DESCRIPTION:
URL:https://www.tetburydolphinsltc.co.uk/event/mini-reds-5-7-yrs-9/
LOCATION:Tetbury\, Sir William Romney's School\, Lowfield Rd\, Tetbury\, GL8 8AE\, United Kingdom
CATEGORIES:Coaching,Mini Reds
END:VEVENT
BEGIN:VEVENT
DTSTART;TZID=Europe/London:20150514T183000
DTEND;TZID=Europe/London:20150514T193000
DTSTAMP:20260424T195331
CREATED:20150511T093646Z
LAST-MODIFIED:20150511T093646Z
UID:843-1431628200-1431631800@www.tetburydolphinsltc.co.uk
SUMMARY:Juniors (11+)
DESCRIPTION:
URL:https://www.tetburydolphinsltc.co.uk/event/juniors-11-8/
LOCATION:Tetbury\, Sir William Romney's School\, Lowfield Rd\, Tetbury\, GL8 8AE\, United Kingdom
CATEGORIES:Coaching,Juniors
END:VEVENT
BEGIN:VEVENT
DTSTART;TZID=Europe/London:20150514T174500
DTEND;TZID=Europe/London:20150514T183000
DTSTAMP:20260424T195331
CREATED:20150511T093645Z
LAST-MODIFIED:20150511T093645Z
UID:836-1431625500-1431628200@www.tetburydolphinsltc.co.uk
SUMMARY:Mini Oranges/Greens (8-10 yrs)
DESCRIPTION:
URL:https://www.tetburydolphinsltc.co.uk/event/mini-orangesgreens-8-10-yrs-8/
LOCATION:Tetbury\, Sir William Romney's School\, Lowfield Rd\, Tetbury\, GL8 8AE\, United Kingdom
CATEGORIES:Coaching,Mini Oranges / Greens
END:VEVENT
BEGIN:VEVENT
DTSTART;TZID=Europe/London:20150514T170000
DTEND;TZID=Europe/London:20150514T174500
DTSTAMP:20260424T195331
CREATED:20150511T093644Z
LAST-MODIFIED:20150511T093644Z
UID:829-1431622800-1431625500@www.tetburydolphinsltc.co.uk
SUMMARY:Mini Reds (5-7 yrs)
DESCRIPTION:
URL:https://www.tetburydolphinsltc.co.uk/event/mini-reds-5-7-yrs-8/
LOCATION:Tetbury\, Sir William Romney's School\, Lowfield Rd\, Tetbury\, GL8 8AE\, United Kingdom
CATEGORIES:Coaching,Mini Reds
END:VEVENT
BEGIN:VEVENT
DTSTART;TZID=Europe/London:20150507T183000
DTEND;TZID=Europe/London:20150507T193000
DTSTAMP:20260424T195331
CREATED:20150511T093645Z
LAST-MODIFIED:20150511T093645Z
UID:842-1431023400-1431027000@www.tetburydolphinsltc.co.uk
SUMMARY:Juniors (11+)
DESCRIPTION:
URL:https://www.tetburydolphinsltc.co.uk/event/juniors-11/
LOCATION:Tetbury\, Sir William Romney's School\, Lowfield Rd\, Tetbury\, GL8 8AE\, United Kingdom
CATEGORIES:Coaching,Juniors
END:VEVENT
BEGIN:VEVENT
DTSTART;TZID=Europe/London:20150507T174500
DTEND;TZID=Europe/London:20150507T183000
DTSTAMP:20260424T195331
CREATED:20150511T093645Z
LAST-MODIFIED:20150511T093645Z
UID:835-1431020700-1431023400@www.tetburydolphinsltc.co.uk
SUMMARY:Mini Oranges/Greens (8-10 yrs)
DESCRIPTION:
URL:https://www.tetburydolphinsltc.co.uk/event/mini-orangesgreens-8-10-yrs/
LOCATION:Tetbury\, Sir William Romney's School\, Lowfield Rd\, Tetbury\, GL8 8AE\, United Kingdom
CATEGORIES:Coaching,Mini Oranges / Greens
END:VEVENT
BEGIN:VEVENT
DTSTART;TZID=Europe/London:20150507T170000
DTEND;TZID=Europe/London:20150507T174500
DTSTAMP:20260424T195331
CREATED:20150511T093644Z
LAST-MODIFIED:20150511T093644Z
UID:828-1431018000-1431020700@www.tetburydolphinsltc.co.uk
SUMMARY:Mini Reds (5-7 yrs)
DESCRIPTION:
URL:https://www.tetburydolphinsltc.co.uk/event/mini-reds-5-7-yrs/
LOCATION:Tetbury\, Sir William Romney's School\, Lowfield Rd\, Tetbury\, GL8 8AE\, United Kingdom
CATEGORIES:Coaching,Mini Reds
END:VEVENT
END:VCALENDAR